BEGIN:VCALENDAR
VERSION:2.0
PRODID:-//Zion Indian Community Church - ECPv6.15.18//NONSGML v1.0//EN
CALSCALE:GREGORIAN
METHOD:PUBLISH
X-WR-CALNAME:Zion Indian Community Church
X-ORIGINAL-URL:https://zionicc.org
X-WR-CALDESC:Events for Zion Indian Community Church
REFRESH-INTERVAL;VALUE=DURATION:PT1H
X-Robots-Tag:noindex
X-PUBLISHED-TTL:PT1H
BEGIN:VTIMEZONE
TZID:UTC
BEGIN:STANDARD
TZOFFSETFROM:+0000
TZOFFSETTO:+0000
TZNAME:UTC
DTSTART:20240101T000000
END:STANDARD
END:VTIMEZONE
BEGIN:VEVENT
DTSTART;TZID=UTC:20260101T103000
DTEND;TZID=UTC:20260101T103000
DTSTAMP:20260422T085449
CREATED:20251219T053601Z
LAST-MODIFIED:20251219T170217Z
UID:942-1767263400-1767263400@zionicc.org
SUMMARY:2026 New Year Service at Zion Indian Community Church
DESCRIPTION:Step into the New Year with praise\, thanksgiving\, and hope in Jesus!We warmly invite you\, your family\, and friends to join us as we worship together and dedicate 2026 into God’s hands. \nNew Year ServiceDate: Thursday\, January 1Time: 10:30 AMLocation: 23857 Ronald Reagan Blvd\, Liberty Hill\, TX 78642Lunch follows the service.\n“Thou crownest the year with thy goodness; and thy paths drop fatness.”— Psalm 65:11 (KJV) \n“For I know the thoughts that I think toward you\, saith the Lord\, thoughts of peace\, and not of evil\, to give you an expected end.”— Jeremiah 29:11 (KJV) \n“Therefore if any man be in Christ\, he is a new creature: old things are passed away; behold\, all things are become new.”— 2 Corinthians 5:17 (KJV) \nCome expecting:\n\nWorship and thanksgiving for God’s faithfulness\nA New Year message of hope and renewal\nPrayer for families\, children\, and the year ahead\nA joyful time of fellowship over lunch\n\nWe would love to start 2026 together with you in God’s presence.May the Lord bless you and your family with a year of peace\, favor\, and new beginnings in Christ.
URL:https://zionicc.org/event/2026-new-year-service-at-zion-indian-community-church/
LOCATION:Zion Indian Community Church\, 23857 Ronald Reagan Blvd\, Liberty Hill\, TX\, 78642\, United States
ATTACH;FMTTYPE=image/jpeg:https://zionicc.org/wp-content/uploads/2025/12/Zion-NewYear-2026.jpeg
END:VEVENT
BEGIN:VEVENT
DTSTART;TZID=UTC:20251225T103000
DTEND;TZID=UTC:20251225T103000
DTSTAMP:20260422T085449
CREATED:20251219T050045Z
LAST-MODIFIED:20251219T165946Z
UID:925-1766658600-1766658600@zionicc.org
SUMMARY:Christmas Service at Zion Indian Community Church
DESCRIPTION:Come celebrate the joy of Christmas with us at Zion Indian Community Church!We would love to have you\, your family\, and friends join us as we worship\, sing carols\, and remember the greatest gift ever given—Jesus Christ. \nChristmas Service\nDate: Thursday\, December 25Time: 10:30 AMLocation: 23857 Ronald Reagan Blvd\, Liberty Hill\, TX 78642\nLunch follows the service. \nFor unto you is born this day in the city of David a Saviour\, which is Christ the Lord.— Luke 2:11 (KJV) \nGlory to God in the highest\, and on earth peace\, good will toward men.— Luke 2:14 (KJV) \nThanks be unto God for his unspeakable gift.— 2 Corinthians 9:15 (KJV) \nCome expecting:\n\nA Christ-centered message of hope\nPrayer and fellowship\nA delicious lunch and time to connect as a community\n\nBring your family\, invite a friend\, and let’s celebrate the birth of Jesus together.You are most welcome\, and we pray this Christmas will be filled with peace\, joy\, and God’s blessing over you and your home.
URL:https://zionicc.org/event/christmas-service-at-zion-indian-community-church/
LOCATION:Zion Indian Community Church\, 23857 Ronald Reagan Blvd\, Liberty Hill\, TX\, 78642\, United States
ATTACH;FMTTYPE=image/jpeg:https://zionicc.org/wp-content/uploads/2025/12/Zion-Christmas-2025.jpeg
END:VEVENT
END:VCALENDAR